BEGIN:VCALENDAR
VERSION:2.0
PRODID:-//Saint Paul Methodist Church | A Global Methodist Congregation in Goldsboro, NC - ECPv6.15.20//NONSGML v1.0//EN
CALSCALE:GREGORIAN
METHOD:PUBLISH
X-ORIGINAL-URL:https://www.stpaulgoldsboro.org
X-WR-CALDESC:Events for Saint Paul Methodist Church | A Global Methodist Congregation in Goldsboro, NC
REFRESH-INTERVAL;VALUE=DURATION:PT1H
X-Robots-Tag:noindex
X-PUBLISHED-TTL:PT1H
BEGIN:VTIMEZONE
TZID:America/New_York
BEGIN:DAYLIGHT
TZOFFSETFROM:-0500
TZOFFSETTO:-0400
TZNAME:EDT
DTSTART:20260308T070000
END:DAYLIGHT
BEGIN:STANDARD
TZOFFSETFROM:-0400
TZOFFSETTO:-0500
TZNAME:EST
DTSTART:20261101T060000
END:STANDARD
BEGIN:DAYLIGHT
TZOFFSETFROM:-0500
TZOFFSETTO:-0400
TZNAME:EDT
DTSTART:20270314T070000
END:DAYLIGHT
BEGIN:STANDARD
TZOFFSETFROM:-0400
TZOFFSETTO:-0500
TZNAME:EST
DTSTART:20271107T060000
END:STANDARD
BEGIN:DAYLIGHT
TZOFFSETFROM:-0500
TZOFFSETTO:-0400
TZNAME:EDT
DTSTART:20280312T070000
END:DAYLIGHT
BEGIN:STANDARD
TZOFFSETFROM:-0400
TZOFFSETTO:-0500
TZNAME:EST
DTSTART:20281105T060000
END:STANDARD
BEGIN:DAYLIGHT
TZOFFSETFROM:-0500
TZOFFSETTO:-0400
TZNAME:EDT
DTSTART:20290311T070000
END:DAYLIGHT
BEGIN:STANDARD
TZOFFSETFROM:-0400
TZOFFSETTO:-0500
TZNAME:EST
DTSTART:20291104T060000
END:STANDARD
BEGIN:DAYLIGHT
TZOFFSETFROM:-0500
TZOFFSETTO:-0400
TZNAME:EDT
DTSTART:20300310T070000
END:DAYLIGHT
BEGIN:STANDARD
TZOFFSETFROM:-0400
TZOFFSETTO:-0500
TZNAME:EST
DTSTART:20301103T060000
END:STANDARD
END:VTIMEZONE
BEGIN:VEVENT
DTSTART;TZID=America/New_York:20270302T110000
DTEND;TZID=America/New_York:20270302T120000
DTSTAMP:20260423T073145
CREATED:20250303T201134Z
LAST-MODIFIED:20250303T201549Z
UID:10002400-1803985200-1803988800@www.stpaulgoldsboro.org
SUMMARY:Methodist Women - Unity Circle
DESCRIPTION:Saint Paul Methodist Women – Unity Circle\n  \nMeets the first Tuesday of the month at 11:00 am.\nLocated in the Saint Paul Methodist Church J. Paul Edwards Classroom
URL:https://www.stpaulgoldsboro.org/events/methodist-women-unity-circle-2/2027-03-02/
LOCATION:J. Paul Edwards Classroom – Saint Paul Methodist Church\, 204 East Chestnut Street\, Goldsboro\, NC\, 27534\, United States
CATEGORIES:Women's Ministry
ATTACH;FMTTYPE=image/png:https://www.stpaulgoldsboro.org/wp-content/uploads/2024/02/methodist-women-circles-unity-circle.png
ORGANIZER;CN="Saint Paul Methodist Church":MAILTO:stpaul@stpaulgoldsboro.org
END:VEVENT
BEGIN:VEVENT
DTSTART;TZID=America/New_York:20270406T110000
DTEND;TZID=America/New_York:20270406T120000
DTSTAMP:20260423T073145
CREATED:20250303T201134Z
LAST-MODIFIED:20250303T201549Z
UID:10002401-1807009200-1807012800@www.stpaulgoldsboro.org
SUMMARY:Methodist Women - Unity Circle
DESCRIPTION:Saint Paul Methodist Women – Unity Circle\n  \nMeets the first Tuesday of the month at 11:00 am.\nLocated in the Saint Paul Methodist Church J. Paul Edwards Classroom
URL:https://www.stpaulgoldsboro.org/events/methodist-women-unity-circle-2/2027-04-06/
LOCATION:J. Paul Edwards Classroom – Saint Paul Methodist Church\, 204 East Chestnut Street\, Goldsboro\, NC\, 27534\, United States
CATEGORIES:Women's Ministry
ATTACH;FMTTYPE=image/png:https://www.stpaulgoldsboro.org/wp-content/uploads/2024/02/methodist-women-circles-unity-circle.png
ORGANIZER;CN="Saint Paul Methodist Church":MAILTO:stpaul@stpaulgoldsboro.org
END:VEVENT
BEGIN:VEVENT
DTSTART;TZID=America/New_York:20270504T110000
DTEND;TZID=America/New_York:20270504T120000
DTSTAMP:20260423T073145
CREATED:20250303T201134Z
LAST-MODIFIED:20250303T201549Z
UID:10002402-1809428400-1809432000@www.stpaulgoldsboro.org
SUMMARY:Methodist Women - Unity Circle
DESCRIPTION:Saint Paul Methodist Women – Unity Circle\n  \nMeets the first Tuesday of the month at 11:00 am.\nLocated in the Saint Paul Methodist Church J. Paul Edwards Classroom
URL:https://www.stpaulgoldsboro.org/events/methodist-women-unity-circle-2/2027-05-04/
LOCATION:J. Paul Edwards Classroom – Saint Paul Methodist Church\, 204 East Chestnut Street\, Goldsboro\, NC\, 27534\, United States
CATEGORIES:Women's Ministry
ATTACH;FMTTYPE=image/png:https://www.stpaulgoldsboro.org/wp-content/uploads/2024/02/methodist-women-circles-unity-circle.png
ORGANIZER;CN="Saint Paul Methodist Church":MAILTO:stpaul@stpaulgoldsboro.org
END:VEVENT
BEGIN:VEVENT
DTSTART;TZID=America/New_York:20270601T110000
DTEND;TZID=America/New_York:20270601T120000
DTSTAMP:20260423T073145
CREATED:20250303T201134Z
LAST-MODIFIED:20250303T201549Z
UID:10002403-1811847600-1811851200@www.stpaulgoldsboro.org
SUMMARY:Methodist Women - Unity Circle
DESCRIPTION:Saint Paul Methodist Women – Unity Circle\n  \nMeets the first Tuesday of the month at 11:00 am.\nLocated in the Saint Paul Methodist Church J. Paul Edwards Classroom
URL:https://www.stpaulgoldsboro.org/events/methodist-women-unity-circle-2/2027-06-01/
LOCATION:J. Paul Edwards Classroom – Saint Paul Methodist Church\, 204 East Chestnut Street\, Goldsboro\, NC\, 27534\, United States
CATEGORIES:Women's Ministry
ATTACH;FMTTYPE=image/png:https://www.stpaulgoldsboro.org/wp-content/uploads/2024/02/methodist-women-circles-unity-circle.png
ORGANIZER;CN="Saint Paul Methodist Church":MAILTO:stpaul@stpaulgoldsboro.org
END:VEVENT
BEGIN:VEVENT
DTSTART;TZID=America/New_York:20270706T110000
DTEND;TZID=America/New_York:20270706T120000
DTSTAMP:20260423T073145
CREATED:20250303T201134Z
LAST-MODIFIED:20250303T201549Z
UID:10002404-1814871600-1814875200@www.stpaulgoldsboro.org
SUMMARY:Methodist Women - Unity Circle
DESCRIPTION:Saint Paul Methodist Women – Unity Circle\n  \nMeets the first Tuesday of the month at 11:00 am.\nLocated in the Saint Paul Methodist Church J. Paul Edwards Classroom
URL:https://www.stpaulgoldsboro.org/events/methodist-women-unity-circle-2/2027-07-06/
LOCATION:J. Paul Edwards Classroom – Saint Paul Methodist Church\, 204 East Chestnut Street\, Goldsboro\, NC\, 27534\, United States
CATEGORIES:Women's Ministry
ATTACH;FMTTYPE=image/png:https://www.stpaulgoldsboro.org/wp-content/uploads/2024/02/methodist-women-circles-unity-circle.png
ORGANIZER;CN="Saint Paul Methodist Church":MAILTO:stpaul@stpaulgoldsboro.org
END:VEVENT
BEGIN:VEVENT
DTSTART;TZID=America/New_York:20270803T110000
DTEND;TZID=America/New_York:20270803T120000
DTSTAMP:20260423T073145
CREATED:20250303T201134Z
LAST-MODIFIED:20250303T201549Z
UID:10002405-1817290800-1817294400@www.stpaulgoldsboro.org
SUMMARY:Methodist Women - Unity Circle
DESCRIPTION:Saint Paul Methodist Women – Unity Circle\n  \nMeets the first Tuesday of the month at 11:00 am.\nLocated in the Saint Paul Methodist Church J. Paul Edwards Classroom
URL:https://www.stpaulgoldsboro.org/events/methodist-women-unity-circle-2/2027-08-03/
LOCATION:J. Paul Edwards Classroom – Saint Paul Methodist Church\, 204 East Chestnut Street\, Goldsboro\, NC\, 27534\, United States
CATEGORIES:Women's Ministry
ATTACH;FMTTYPE=image/png:https://www.stpaulgoldsboro.org/wp-content/uploads/2024/02/methodist-women-circles-unity-circle.png
ORGANIZER;CN="Saint Paul Methodist Church":MAILTO:stpaul@stpaulgoldsboro.org
END:VEVENT
BEGIN:VEVENT
DTSTART;TZID=America/New_York:20270907T110000
DTEND;TZID=America/New_York:20270907T120000
DTSTAMP:20260423T073145
CREATED:20250303T201134Z
LAST-MODIFIED:20250303T201549Z
UID:10002406-1820314800-1820318400@www.stpaulgoldsboro.org
SUMMARY:Methodist Women - Unity Circle
DESCRIPTION:Saint Paul Methodist Women – Unity Circle\n  \nMeets the first Tuesday of the month at 11:00 am.\nLocated in the Saint Paul Methodist Church J. Paul Edwards Classroom
URL:https://www.stpaulgoldsboro.org/events/methodist-women-unity-circle-2/2027-09-07/
LOCATION:J. Paul Edwards Classroom – Saint Paul Methodist Church\, 204 East Chestnut Street\, Goldsboro\, NC\, 27534\, United States
CATEGORIES:Women's Ministry
ATTACH;FMTTYPE=image/png:https://www.stpaulgoldsboro.org/wp-content/uploads/2024/02/methodist-women-circles-unity-circle.png
ORGANIZER;CN="Saint Paul Methodist Church":MAILTO:stpaul@stpaulgoldsboro.org
END:VEVENT
BEGIN:VEVENT
DTSTART;TZID=America/New_York:20271005T110000
DTEND;TZID=America/New_York:20271005T120000
DTSTAMP:20260423T073145
CREATED:20250303T201134Z
LAST-MODIFIED:20250303T201549Z
UID:10002407-1822734000-1822737600@www.stpaulgoldsboro.org
SUMMARY:Methodist Women - Unity Circle
DESCRIPTION:Saint Paul Methodist Women – Unity Circle\n  \nMeets the first Tuesday of the month at 11:00 am.\nLocated in the Saint Paul Methodist Church J. Paul Edwards Classroom
URL:https://www.stpaulgoldsboro.org/events/methodist-women-unity-circle-2/2027-10-05/
LOCATION:J. Paul Edwards Classroom – Saint Paul Methodist Church\, 204 East Chestnut Street\, Goldsboro\, NC\, 27534\, United States
CATEGORIES:Women's Ministry
ATTACH;FMTTYPE=image/png:https://www.stpaulgoldsboro.org/wp-content/uploads/2024/02/methodist-women-circles-unity-circle.png
ORGANIZER;CN="Saint Paul Methodist Church":MAILTO:stpaul@stpaulgoldsboro.org
END:VEVENT
BEGIN:VEVENT
DTSTART;TZID=America/New_York:20271102T110000
DTEND;TZID=America/New_York:20271102T120000
DTSTAMP:20260423T073145
CREATED:20250303T201134Z
LAST-MODIFIED:20250303T201549Z
UID:10002408-1825153200-1825156800@www.stpaulgoldsboro.org
SUMMARY:Methodist Women - Unity Circle
DESCRIPTION:Saint Paul Methodist Women – Unity Circle\n  \nMeets the first Tuesday of the month at 11:00 am.\nLocated in the Saint Paul Methodist Church J. Paul Edwards Classroom
URL:https://www.stpaulgoldsboro.org/events/methodist-women-unity-circle-2/2027-11-02/
LOCATION:J. Paul Edwards Classroom – Saint Paul Methodist Church\, 204 East Chestnut Street\, Goldsboro\, NC\, 27534\, United States
CATEGORIES:Women's Ministry
ATTACH;FMTTYPE=image/png:https://www.stpaulgoldsboro.org/wp-content/uploads/2024/02/methodist-women-circles-unity-circle.png
ORGANIZER;CN="Saint Paul Methodist Church":MAILTO:stpaul@stpaulgoldsboro.org
END:VEVENT
BEGIN:VEVENT
DTSTART;TZID=America/New_York:20271207T110000
DTEND;TZID=America/New_York:20271207T120000
DTSTAMP:20260423T073145
CREATED:20250303T201134Z
LAST-MODIFIED:20250303T201549Z
UID:10002409-1828177200-1828180800@www.stpaulgoldsboro.org
SUMMARY:Methodist Women - Unity Circle
DESCRIPTION:Saint Paul Methodist Women – Unity Circle\n  \nMeets the first Tuesday of the month at 11:00 am.\nLocated in the Saint Paul Methodist Church J. Paul Edwards Classroom
URL:https://www.stpaulgoldsboro.org/events/methodist-women-unity-circle-2/2027-12-07/
LOCATION:J. Paul Edwards Classroom – Saint Paul Methodist Church\, 204 East Chestnut Street\, Goldsboro\, NC\, 27534\, United States
CATEGORIES:Women's Ministry
ATTACH;FMTTYPE=image/png:https://www.stpaulgoldsboro.org/wp-content/uploads/2024/02/methodist-women-circles-unity-circle.png
ORGANIZER;CN="Saint Paul Methodist Church":MAILTO:stpaul@stpaulgoldsboro.org
END:VEVENT
BEGIN:VEVENT
DTSTART;TZID=America/New_York:20280104T110000
DTEND;TZID=America/New_York:20280104T120000
DTSTAMP:20260423T073145
CREATED:20250303T201134Z
LAST-MODIFIED:20250303T201549Z
UID:10002410-1830596400-1830600000@www.stpaulgoldsboro.org
SUMMARY:Methodist Women - Unity Circle
DESCRIPTION:Saint Paul Methodist Women – Unity Circle\n  \nMeets the first Tuesday of the month at 11:00 am.\nLocated in the Saint Paul Methodist Church J. Paul Edwards Classroom
URL:https://www.stpaulgoldsboro.org/events/methodist-women-unity-circle-2/2028-01-04/
LOCATION:J. Paul Edwards Classroom – Saint Paul Methodist Church\, 204 East Chestnut Street\, Goldsboro\, NC\, 27534\, United States
CATEGORIES:Women's Ministry
ATTACH;FMTTYPE=image/png:https://www.stpaulgoldsboro.org/wp-content/uploads/2024/02/methodist-women-circles-unity-circle.png
ORGANIZER;CN="Saint Paul Methodist Church":MAILTO:stpaul@stpaulgoldsboro.org
END:VEVENT
BEGIN:VEVENT
DTSTART;TZID=America/New_York:20280201T110000
DTEND;TZID=America/New_York:20280201T120000
DTSTAMP:20260423T073145
CREATED:20250303T201134Z
LAST-MODIFIED:20250303T201549Z
UID:10002411-1833015600-1833019200@www.stpaulgoldsboro.org
SUMMARY:Methodist Women - Unity Circle
DESCRIPTION:Saint Paul Methodist Women – Unity Circle\n  \nMeets the first Tuesday of the month at 11:00 am.\nLocated in the Saint Paul Methodist Church J. Paul Edwards Classroom
URL:https://www.stpaulgoldsboro.org/events/methodist-women-unity-circle-2/2028-02-01/
LOCATION:J. Paul Edwards Classroom – Saint Paul Methodist Church\, 204 East Chestnut Street\, Goldsboro\, NC\, 27534\, United States
CATEGORIES:Women's Ministry
ATTACH;FMTTYPE=image/png:https://www.stpaulgoldsboro.org/wp-content/uploads/2024/02/methodist-women-circles-unity-circle.png
ORGANIZER;CN="Saint Paul Methodist Church":MAILTO:stpaul@stpaulgoldsboro.org
END:VEVENT
BEGIN:VEVENT
DTSTART;TZID=America/New_York:20280307T110000
DTEND;TZID=America/New_York:20280307T120000
DTSTAMP:20260423T073145
CREATED:20250303T201134Z
LAST-MODIFIED:20250303T201549Z
UID:10002412-1836039600-1836043200@www.stpaulgoldsboro.org
SUMMARY:Methodist Women - Unity Circle
DESCRIPTION:Saint Paul Methodist Women – Unity Circle\n  \nMeets the first Tuesday of the month at 11:00 am.\nLocated in the Saint Paul Methodist Church J. Paul Edwards Classroom
URL:https://www.stpaulgoldsboro.org/events/methodist-women-unity-circle-2/2028-03-07/
LOCATION:J. Paul Edwards Classroom – Saint Paul Methodist Church\, 204 East Chestnut Street\, Goldsboro\, NC\, 27534\, United States
CATEGORIES:Women's Ministry
ATTACH;FMTTYPE=image/png:https://www.stpaulgoldsboro.org/wp-content/uploads/2024/02/methodist-women-circles-unity-circle.png
ORGANIZER;CN="Saint Paul Methodist Church":MAILTO:stpaul@stpaulgoldsboro.org
END:VEVENT
BEGIN:VEVENT
DTSTART;TZID=America/New_York:20280404T110000
DTEND;TZID=America/New_York:20280404T120000
DTSTAMP:20260423T073145
CREATED:20250303T201134Z
LAST-MODIFIED:20250303T201549Z
UID:10002413-1838458800-1838462400@www.stpaulgoldsboro.org
SUMMARY:Methodist Women - Unity Circle
DESCRIPTION:Saint Paul Methodist Women – Unity Circle\n  \nMeets the first Tuesday of the month at 11:00 am.\nLocated in the Saint Paul Methodist Church J. Paul Edwards Classroom
URL:https://www.stpaulgoldsboro.org/events/methodist-women-unity-circle-2/2028-04-04/
LOCATION:J. Paul Edwards Classroom – Saint Paul Methodist Church\, 204 East Chestnut Street\, Goldsboro\, NC\, 27534\, United States
CATEGORIES:Women's Ministry
ATTACH;FMTTYPE=image/png:https://www.stpaulgoldsboro.org/wp-content/uploads/2024/02/methodist-women-circles-unity-circle.png
ORGANIZER;CN="Saint Paul Methodist Church":MAILTO:stpaul@stpaulgoldsboro.org
END:VEVENT
BEGIN:VEVENT
DTSTART;TZID=America/New_York:20280502T110000
DTEND;TZID=America/New_York:20280502T120000
DTSTAMP:20260423T073145
CREATED:20250303T201134Z
LAST-MODIFIED:20250303T201549Z
UID:10002414-1840878000-1840881600@www.stpaulgoldsboro.org
SUMMARY:Methodist Women - Unity Circle
DESCRIPTION:Saint Paul Methodist Women – Unity Circle\n  \nMeets the first Tuesday of the month at 11:00 am.\nLocated in the Saint Paul Methodist Church J. Paul Edwards Classroom
URL:https://www.stpaulgoldsboro.org/events/methodist-women-unity-circle-2/2028-05-02/
LOCATION:J. Paul Edwards Classroom – Saint Paul Methodist Church\, 204 East Chestnut Street\, Goldsboro\, NC\, 27534\, United States
CATEGORIES:Women's Ministry
ATTACH;FMTTYPE=image/png:https://www.stpaulgoldsboro.org/wp-content/uploads/2024/02/methodist-women-circles-unity-circle.png
ORGANIZER;CN="Saint Paul Methodist Church":MAILTO:stpaul@stpaulgoldsboro.org
END:VEVENT
BEGIN:VEVENT
DTSTART;TZID=America/New_York:20280606T110000
DTEND;TZID=America/New_York:20280606T120000
DTSTAMP:20260423T073145
CREATED:20250303T201134Z
LAST-MODIFIED:20250303T201549Z
UID:10002415-1843902000-1843905600@www.stpaulgoldsboro.org
SUMMARY:Methodist Women - Unity Circle
DESCRIPTION:Saint Paul Methodist Women – Unity Circle\n  \nMeets the first Tuesday of the month at 11:00 am.\nLocated in the Saint Paul Methodist Church J. Paul Edwards Classroom
URL:https://www.stpaulgoldsboro.org/events/methodist-women-unity-circle-2/2028-06-06/
LOCATION:J. Paul Edwards Classroom – Saint Paul Methodist Church\, 204 East Chestnut Street\, Goldsboro\, NC\, 27534\, United States
CATEGORIES:Women's Ministry
ATTACH;FMTTYPE=image/png:https://www.stpaulgoldsboro.org/wp-content/uploads/2024/02/methodist-women-circles-unity-circle.png
ORGANIZER;CN="Saint Paul Methodist Church":MAILTO:stpaul@stpaulgoldsboro.org
END:VEVENT
BEGIN:VEVENT
DTSTART;TZID=America/New_York:20280704T110000
DTEND;TZID=America/New_York:20280704T120000
DTSTAMP:20260423T073145
CREATED:20250303T201134Z
LAST-MODIFIED:20250303T201549Z
UID:10002416-1846321200-1846324800@www.stpaulgoldsboro.org
SUMMARY:Methodist Women - Unity Circle
DESCRIPTION:Saint Paul Methodist Women – Unity Circle\n  \nMeets the first Tuesday of the month at 11:00 am.\nLocated in the Saint Paul Methodist Church J. Paul Edwards Classroom
URL:https://www.stpaulgoldsboro.org/events/methodist-women-unity-circle-2/2028-07-04/
LOCATION:J. Paul Edwards Classroom – Saint Paul Methodist Church\, 204 East Chestnut Street\, Goldsboro\, NC\, 27534\, United States
CATEGORIES:Women's Ministry
ATTACH;FMTTYPE=image/png:https://www.stpaulgoldsboro.org/wp-content/uploads/2024/02/methodist-women-circles-unity-circle.png
ORGANIZER;CN="Saint Paul Methodist Church":MAILTO:stpaul@stpaulgoldsboro.org
END:VEVENT
BEGIN:VEVENT
DTSTART;TZID=America/New_York:20280801T110000
DTEND;TZID=America/New_York:20280801T120000
DTSTAMP:20260423T073145
CREATED:20250303T201134Z
LAST-MODIFIED:20250303T201549Z
UID:10002417-1848740400-1848744000@www.stpaulgoldsboro.org
SUMMARY:Methodist Women - Unity Circle
DESCRIPTION:Saint Paul Methodist Women – Unity Circle\n  \nMeets the first Tuesday of the month at 11:00 am.\nLocated in the Saint Paul Methodist Church J. Paul Edwards Classroom
URL:https://www.stpaulgoldsboro.org/events/methodist-women-unity-circle-2/2028-08-01/
LOCATION:J. Paul Edwards Classroom – Saint Paul Methodist Church\, 204 East Chestnut Street\, Goldsboro\, NC\, 27534\, United States
CATEGORIES:Women's Ministry
ATTACH;FMTTYPE=image/png:https://www.stpaulgoldsboro.org/wp-content/uploads/2024/02/methodist-women-circles-unity-circle.png
ORGANIZER;CN="Saint Paul Methodist Church":MAILTO:stpaul@stpaulgoldsboro.org
END:VEVENT
BEGIN:VEVENT
DTSTART;TZID=America/New_York:20280905T110000
DTEND;TZID=America/New_York:20280905T120000
DTSTAMP:20260423T073145
CREATED:20250303T201134Z
LAST-MODIFIED:20250303T201549Z
UID:10002418-1851764400-1851768000@www.stpaulgoldsboro.org
SUMMARY:Methodist Women - Unity Circle
DESCRIPTION:Saint Paul Methodist Women – Unity Circle\n  \nMeets the first Tuesday of the month at 11:00 am.\nLocated in the Saint Paul Methodist Church J. Paul Edwards Classroom
URL:https://www.stpaulgoldsboro.org/events/methodist-women-unity-circle-2/2028-09-05/
LOCATION:J. Paul Edwards Classroom – Saint Paul Methodist Church\, 204 East Chestnut Street\, Goldsboro\, NC\, 27534\, United States
CATEGORIES:Women's Ministry
ATTACH;FMTTYPE=image/png:https://www.stpaulgoldsboro.org/wp-content/uploads/2024/02/methodist-women-circles-unity-circle.png
ORGANIZER;CN="Saint Paul Methodist Church":MAILTO:stpaul@stpaulgoldsboro.org
END:VEVENT
BEGIN:VEVENT
DTSTART;TZID=America/New_York:20281003T110000
DTEND;TZID=America/New_York:20281003T120000
DTSTAMP:20260423T073145
CREATED:20250303T201134Z
LAST-MODIFIED:20250303T201549Z
UID:10002419-1854183600-1854187200@www.stpaulgoldsboro.org
SUMMARY:Methodist Women - Unity Circle
DESCRIPTION:Saint Paul Methodist Women – Unity Circle\n  \nMeets the first Tuesday of the month at 11:00 am.\nLocated in the Saint Paul Methodist Church J. Paul Edwards Classroom
URL:https://www.stpaulgoldsboro.org/events/methodist-women-unity-circle-2/2028-10-03/
LOCATION:J. Paul Edwards Classroom – Saint Paul Methodist Church\, 204 East Chestnut Street\, Goldsboro\, NC\, 27534\, United States
CATEGORIES:Women's Ministry
ATTACH;FMTTYPE=image/png:https://www.stpaulgoldsboro.org/wp-content/uploads/2024/02/methodist-women-circles-unity-circle.png
ORGANIZER;CN="Saint Paul Methodist Church":MAILTO:stpaul@stpaulgoldsboro.org
END:VEVENT
BEGIN:VEVENT
DTSTART;TZID=America/New_York:20281107T110000
DTEND;TZID=America/New_York:20281107T120000
DTSTAMP:20260423T073145
CREATED:20250303T201134Z
LAST-MODIFIED:20250303T201549Z
UID:10002420-1857207600-1857211200@www.stpaulgoldsboro.org
SUMMARY:Methodist Women - Unity Circle
DESCRIPTION:Saint Paul Methodist Women – Unity Circle\n  \nMeets the first Tuesday of the month at 11:00 am.\nLocated in the Saint Paul Methodist Church J. Paul Edwards Classroom
URL:https://www.stpaulgoldsboro.org/events/methodist-women-unity-circle-2/2028-11-07/
LOCATION:J. Paul Edwards Classroom – Saint Paul Methodist Church\, 204 East Chestnut Street\, Goldsboro\, NC\, 27534\, United States
CATEGORIES:Women's Ministry
ATTACH;FMTTYPE=image/png:https://www.stpaulgoldsboro.org/wp-content/uploads/2024/02/methodist-women-circles-unity-circle.png
ORGANIZER;CN="Saint Paul Methodist Church":MAILTO:stpaul@stpaulgoldsboro.org
END:VEVENT
BEGIN:VEVENT
DTSTART;TZID=America/New_York:20281205T110000
DTEND;TZID=America/New_York:20281205T120000
DTSTAMP:20260423T073145
CREATED:20250303T201134Z
LAST-MODIFIED:20250303T201549Z
UID:10002421-1859626800-1859630400@www.stpaulgoldsboro.org
SUMMARY:Methodist Women - Unity Circle
DESCRIPTION:Saint Paul Methodist Women – Unity Circle\n  \nMeets the first Tuesday of the month at 11:00 am.\nLocated in the Saint Paul Methodist Church J. Paul Edwards Classroom
URL:https://www.stpaulgoldsboro.org/events/methodist-women-unity-circle-2/2028-12-05/
LOCATION:J. Paul Edwards Classroom – Saint Paul Methodist Church\, 204 East Chestnut Street\, Goldsboro\, NC\, 27534\, United States
CATEGORIES:Women's Ministry
ATTACH;FMTTYPE=image/png:https://www.stpaulgoldsboro.org/wp-content/uploads/2024/02/methodist-women-circles-unity-circle.png
ORGANIZER;CN="Saint Paul Methodist Church":MAILTO:stpaul@stpaulgoldsboro.org
END:VEVENT
BEGIN:VEVENT
DTSTART;TZID=America/New_York:20290102T110000
DTEND;TZID=America/New_York:20290102T120000
DTSTAMP:20260423T073145
CREATED:20250303T201134Z
LAST-MODIFIED:20250303T201549Z
UID:10002422-1862046000-1862049600@www.stpaulgoldsboro.org
SUMMARY:Methodist Women - Unity Circle
DESCRIPTION:Saint Paul Methodist Women – Unity Circle\n  \nMeets the first Tuesday of the month at 11:00 am.\nLocated in the Saint Paul Methodist Church J. Paul Edwards Classroom
URL:https://www.stpaulgoldsboro.org/events/methodist-women-unity-circle-2/2029-01-02/
LOCATION:J. Paul Edwards Classroom – Saint Paul Methodist Church\, 204 East Chestnut Street\, Goldsboro\, NC\, 27534\, United States
CATEGORIES:Women's Ministry
ATTACH;FMTTYPE=image/png:https://www.stpaulgoldsboro.org/wp-content/uploads/2024/02/methodist-women-circles-unity-circle.png
ORGANIZER;CN="Saint Paul Methodist Church":MAILTO:stpaul@stpaulgoldsboro.org
END:VEVENT
BEGIN:VEVENT
DTSTART;TZID=America/New_York:20290206T110000
DTEND;TZID=America/New_York:20290206T120000
DTSTAMP:20260423T073145
CREATED:20250303T201134Z
LAST-MODIFIED:20250303T201549Z
UID:10002423-1865070000-1865073600@www.stpaulgoldsboro.org
SUMMARY:Methodist Women - Unity Circle
DESCRIPTION:Saint Paul Methodist Women – Unity Circle\n  \nMeets the first Tuesday of the month at 11:00 am.\nLocated in the Saint Paul Methodist Church J. Paul Edwards Classroom
URL:https://www.stpaulgoldsboro.org/events/methodist-women-unity-circle-2/2029-02-06/
LOCATION:J. Paul Edwards Classroom – Saint Paul Methodist Church\, 204 East Chestnut Street\, Goldsboro\, NC\, 27534\, United States
CATEGORIES:Women's Ministry
ATTACH;FMTTYPE=image/png:https://www.stpaulgoldsboro.org/wp-content/uploads/2024/02/methodist-women-circles-unity-circle.png
ORGANIZER;CN="Saint Paul Methodist Church":MAILTO:stpaul@stpaulgoldsboro.org
END:VEVENT
BEGIN:VEVENT
DTSTART;TZID=America/New_York:20290306T110000
DTEND;TZID=America/New_York:20290306T120000
DTSTAMP:20260423T073145
CREATED:20250303T201134Z
LAST-MODIFIED:20250303T201549Z
UID:10002424-1867489200-1867492800@www.stpaulgoldsboro.org
SUMMARY:Methodist Women - Unity Circle
DESCRIPTION:Saint Paul Methodist Women – Unity Circle\n  \nMeets the first Tuesday of the month at 11:00 am.\nLocated in the Saint Paul Methodist Church J. Paul Edwards Classroom
URL:https://www.stpaulgoldsboro.org/events/methodist-women-unity-circle-2/2029-03-06/
LOCATION:J. Paul Edwards Classroom – Saint Paul Methodist Church\, 204 East Chestnut Street\, Goldsboro\, NC\, 27534\, United States
CATEGORIES:Women's Ministry
ATTACH;FMTTYPE=image/png:https://www.stpaulgoldsboro.org/wp-content/uploads/2024/02/methodist-women-circles-unity-circle.png
ORGANIZER;CN="Saint Paul Methodist Church":MAILTO:stpaul@stpaulgoldsboro.org
END:VEVENT
BEGIN:VEVENT
DTSTART;TZID=America/New_York:20290403T110000
DTEND;TZID=America/New_York:20290403T120000
DTSTAMP:20260423T073145
CREATED:20250303T201134Z
LAST-MODIFIED:20250303T201549Z
UID:10002425-1869908400-1869912000@www.stpaulgoldsboro.org
SUMMARY:Methodist Women - Unity Circle
DESCRIPTION:Saint Paul Methodist Women – Unity Circle\n  \nMeets the first Tuesday of the month at 11:00 am.\nLocated in the Saint Paul Methodist Church J. Paul Edwards Classroom
URL:https://www.stpaulgoldsboro.org/events/methodist-women-unity-circle-2/2029-04-03/
LOCATION:J. Paul Edwards Classroom – Saint Paul Methodist Church\, 204 East Chestnut Street\, Goldsboro\, NC\, 27534\, United States
CATEGORIES:Women's Ministry
ATTACH;FMTTYPE=image/png:https://www.stpaulgoldsboro.org/wp-content/uploads/2024/02/methodist-women-circles-unity-circle.png
ORGANIZER;CN="Saint Paul Methodist Church":MAILTO:stpaul@stpaulgoldsboro.org
END:VEVENT
BEGIN:VEVENT
DTSTART;TZID=America/New_York:20290501T110000
DTEND;TZID=America/New_York:20290501T120000
DTSTAMP:20260423T073145
CREATED:20250303T201134Z
LAST-MODIFIED:20250303T201549Z
UID:10002426-1872327600-1872331200@www.stpaulgoldsboro.org
SUMMARY:Methodist Women - Unity Circle
DESCRIPTION:Saint Paul Methodist Women – Unity Circle\n  \nMeets the first Tuesday of the month at 11:00 am.\nLocated in the Saint Paul Methodist Church J. Paul Edwards Classroom
URL:https://www.stpaulgoldsboro.org/events/methodist-women-unity-circle-2/2029-05-01/
LOCATION:J. Paul Edwards Classroom – Saint Paul Methodist Church\, 204 East Chestnut Street\, Goldsboro\, NC\, 27534\, United States
CATEGORIES:Women's Ministry
ATTACH;FMTTYPE=image/png:https://www.stpaulgoldsboro.org/wp-content/uploads/2024/02/methodist-women-circles-unity-circle.png
ORGANIZER;CN="Saint Paul Methodist Church":MAILTO:stpaul@stpaulgoldsboro.org
END:VEVENT
BEGIN:VEVENT
DTSTART;TZID=America/New_York:20290605T110000
DTEND;TZID=America/New_York:20290605T120000
DTSTAMP:20260423T073145
CREATED:20250303T201134Z
LAST-MODIFIED:20250303T201549Z
UID:10002427-1875351600-1875355200@www.stpaulgoldsboro.org
SUMMARY:Methodist Women - Unity Circle
DESCRIPTION:Saint Paul Methodist Women – Unity Circle\n  \nMeets the first Tuesday of the month at 11:00 am.\nLocated in the Saint Paul Methodist Church J. Paul Edwards Classroom
URL:https://www.stpaulgoldsboro.org/events/methodist-women-unity-circle-2/2029-06-05/
LOCATION:J. Paul Edwards Classroom – Saint Paul Methodist Church\, 204 East Chestnut Street\, Goldsboro\, NC\, 27534\, United States
CATEGORIES:Women's Ministry
ATTACH;FMTTYPE=image/png:https://www.stpaulgoldsboro.org/wp-content/uploads/2024/02/methodist-women-circles-unity-circle.png
ORGANIZER;CN="Saint Paul Methodist Church":MAILTO:stpaul@stpaulgoldsboro.org
END:VEVENT
BEGIN:VEVENT
DTSTART;TZID=America/New_York:20290703T110000
DTEND;TZID=America/New_York:20290703T120000
DTSTAMP:20260423T073145
CREATED:20250303T201134Z
LAST-MODIFIED:20250303T201549Z
UID:10002428-1877770800-1877774400@www.stpaulgoldsboro.org
SUMMARY:Methodist Women - Unity Circle
DESCRIPTION:Saint Paul Methodist Women – Unity Circle\n  \nMeets the first Tuesday of the month at 11:00 am.\nLocated in the Saint Paul Methodist Church J. Paul Edwards Classroom
URL:https://www.stpaulgoldsboro.org/events/methodist-women-unity-circle-2/2029-07-03/
LOCATION:J. Paul Edwards Classroom – Saint Paul Methodist Church\, 204 East Chestnut Street\, Goldsboro\, NC\, 27534\, United States
CATEGORIES:Women's Ministry
ATTACH;FMTTYPE=image/png:https://www.stpaulgoldsboro.org/wp-content/uploads/2024/02/methodist-women-circles-unity-circle.png
ORGANIZER;CN="Saint Paul Methodist Church":MAILTO:stpaul@stpaulgoldsboro.org
END:VEVENT
BEGIN:VEVENT
DTSTART;TZID=America/New_York:20290807T110000
DTEND;TZID=America/New_York:20290807T120000
DTSTAMP:20260423T073145
CREATED:20250303T201134Z
LAST-MODIFIED:20250303T201549Z
UID:10002429-1880794800-1880798400@www.stpaulgoldsboro.org
SUMMARY:Methodist Women - Unity Circle
DESCRIPTION:Saint Paul Methodist Women – Unity Circle\n  \nMeets the first Tuesday of the month at 11:00 am.\nLocated in the Saint Paul Methodist Church J. Paul Edwards Classroom
URL:https://www.stpaulgoldsboro.org/events/methodist-women-unity-circle-2/2029-08-07/
LOCATION:J. Paul Edwards Classroom – Saint Paul Methodist Church\, 204 East Chestnut Street\, Goldsboro\, NC\, 27534\, United States
CATEGORIES:Women's Ministry
ATTACH;FMTTYPE=image/png:https://www.stpaulgoldsboro.org/wp-content/uploads/2024/02/methodist-women-circles-unity-circle.png
ORGANIZER;CN="Saint Paul Methodist Church":MAILTO:stpaul@stpaulgoldsboro.org
END:VEVENT
END:VCALENDAR