BEGIN:VCALENDAR
VERSION:2.0
PRODID:-//Saint Paul Methodist Church | A Global Methodist Congregation in Goldsboro, NC - ECPv6.15.20//NONSGML v1.0//EN
CALSCALE:GREGORIAN
METHOD:PUBLISH
X-ORIGINAL-URL:https://www.stpaulgoldsboro.org
X-WR-CALDESC:Events for Saint Paul Methodist Church | A Global Methodist Congregation in Goldsboro, NC
REFRESH-INTERVAL;VALUE=DURATION:PT1H
X-Robots-Tag:noindex
X-PUBLISHED-TTL:PT1H
BEGIN:VTIMEZONE
TZID:America/New_York
BEGIN:DAYLIGHT
TZOFFSETFROM:-0500
TZOFFSETTO:-0400
TZNAME:EDT
DTSTART:20220313T070000
END:DAYLIGHT
BEGIN:STANDARD
TZOFFSETFROM:-0400
TZOFFSETTO:-0500
TZNAME:EST
DTSTART:20221106T060000
END:STANDARD
BEGIN:DAYLIGHT
TZOFFSETFROM:-0500
TZOFFSETTO:-0400
TZNAME:EDT
DTSTART:20230312T070000
END:DAYLIGHT
BEGIN:STANDARD
TZOFFSETFROM:-0400
TZOFFSETTO:-0500
TZNAME:EST
DTSTART:20231105T060000
END:STANDARD
BEGIN:DAYLIGHT
TZOFFSETFROM:-0500
TZOFFSETTO:-0400
TZNAME:EDT
DTSTART:20240310T070000
END:DAYLIGHT
BEGIN:STANDARD
TZOFFSETFROM:-0400
TZOFFSETTO:-0500
TZNAME:EST
DTSTART:20241103T060000
END:STANDARD
BEGIN:DAYLIGHT
TZOFFSETFROM:-0500
TZOFFSETTO:-0400
TZNAME:EDT
DTSTART:20250309T070000
END:DAYLIGHT
BEGIN:STANDARD
TZOFFSETFROM:-0400
TZOFFSETTO:-0500
TZNAME:EST
DTSTART:20251102T060000
END:STANDARD
BEGIN:DAYLIGHT
TZOFFSETFROM:-0500
TZOFFSETTO:-0400
TZNAME:EDT
DTSTART:20260308T070000
END:DAYLIGHT
BEGIN:STANDARD
TZOFFSETFROM:-0400
TZOFFSETTO:-0500
TZNAME:EST
DTSTART:20261101T060000
END:STANDARD
END:VTIMEZONE
BEGIN:VEVENT
DTSTART;TZID=America/New_York:20250412T120000
DTEND;TZID=America/New_York:20250412T160000
DTSTAMP:20260423T170754
CREATED:20250321T232459Z
LAST-MODIFIED:20250321T232459Z
UID:10002469-1744459200-1744473600@www.stpaulgoldsboro.org
SUMMARY:Men's Masters Lunch
DESCRIPTION:All men are invited to join us for a fun lunch and fellowship on Saturday\, April 12th at noon in the Saint Paul Methodist Church fellowship hall. We will have a putting contest and enjoy the 3rd round of the 2025 Masters Tournament. Bring your friends! Click Here to RSVP online or contact the Church at: communications@stpaulgoldsboro.org.
URL:https://www.stpaulgoldsboro.org/events/mens-masters-lunch/
LOCATION:Saint Paul Methodist Church\, 204 E Chestnut St\, Goldsboro\, NC\, 27530\, United States
CATEGORIES:Men's Ministry
ATTACH;FMTTYPE=image/png:https://www.stpaulgoldsboro.org/wp-content/uploads/2025/03/Mens-Masters-Lunch-2025.png
ORGANIZER;CN="Saint Paul Methodist Church":MAILTO:stpaul@stpaulgoldsboro.org
END:VEVENT
BEGIN:VEVENT
DTSTART;TZID=America/New_York:20250411T093000
DTEND;TZID=America/New_York:20250411T103000
DTSTAMP:20260423T170754
CREATED:20250321T232200Z
LAST-MODIFIED:20250321T232200Z
UID:10002468-1744363800-1744367400@www.stpaulgoldsboro.org
SUMMARY:Preparing Palm Crosses 2025
DESCRIPTION:We will gather on Friday\, April 11 at 9:30 am in the fellowship hall to continue our tradition of making palm crosses in preparation for our Palm Sunday Worship Service. Everyone is invited to join us for this joyous time of coffee\, fellowship\, and service. No experience necessary!
URL:https://www.stpaulgoldsboro.org/events/preparing-palm-crosses-2025/
LOCATION:Saint Paul Methodist Church\, 204 E Chestnut St\, Goldsboro\, NC\, 27530\, United States
ATTACH;FMTTYPE=image/png:https://www.stpaulgoldsboro.org/wp-content/uploads/2025/03/palm-cross-making-2025.png
ORGANIZER;CN="Saint Paul Methodist Church":MAILTO:stpaul@stpaulgoldsboro.org
END:VEVENT
BEGIN:VEVENT
DTSTART;TZID=America/New_York:20250410T190000
DTEND;TZID=America/New_York:20250410T200000
DTSTAMP:20260423T170754
CREATED:20250321T203920Z
LAST-MODIFIED:20250321T215028Z
UID:10002466-1744311600-1744315200@www.stpaulgoldsboro.org
SUMMARY:Thursday Night Bible Study - Spring 2025
DESCRIPTION:Everyone is invited to join Rev. Jim each week for his Thursday Night Bible Study at 7pm in the J. Paul Edwards Classroom. He is currently teaching a Survey of the Bible and providing a summary of each book of the Bible.
URL:https://www.stpaulgoldsboro.org/events/thursday-night-bible-study-spring-2025/2025-04-10/
LOCATION:J. Paul Edwards Classroom – Saint Paul Methodist Church\, 204 East Chestnut Street\, Goldsboro\, NC\, 27534\, United States
ATTACH;FMTTYPE=image/png:https://www.stpaulgoldsboro.org/wp-content/uploads/2025/03/thursday-night-bible-study-jan-2025.png
ORGANIZER;CN="Rev. James H. Harry%2C Senior Minister":MAILTO:jimharry@stpaulgoldsboro.org
END:VEVENT
BEGIN:VEVENT
DTSTART;TZID=America/New_York:20250330T110000
DTEND;TZID=America/New_York:20250330T140000
DTSTAMP:20260423T170754
CREATED:20250321T202858Z
LAST-MODIFIED:20250321T202858Z
UID:10002440-1743332400-1743343200@www.stpaulgoldsboro.org
SUMMARY:Family Worship Weekend
DESCRIPTION:Saint Paul 5th Sunday Family Worship Weekend | March 29 & 30 | SAVE THE DATES!! March 29 & 30 will be a 5th Sunday Family Worship Weekend. We invite everyone of all ages\, young and old\, to worship together throughout this special weekend with both contemporary and traditional worship music and fellowship. We will have a tent and stage setup in the Saint Paul parking lot\, so bring your outdoor chairs and your family and friends for this weekend of worship. We encourage everyone to be intentionally invitational and bring new visitors to join us for this church-wide and community celebration. \nOn Saturday\, March 29\, the Children’s Committee has planned a Spring Carnival with free kid’s carnival games and prizes\, sno cones\, cotton candy\, popcorn\, and more. The carnival will be followed by a contemporary Christian concert\, led by Bought By Blood\, a Christian band from Charlotte\, performing original and popular contemporary Christian cover songs. Food trucks will be setup during the concert and we will have a raffle door prize drawing for Saint Paul visitors. \nOn Sunday\, March 30\, we will have one combined Worship Service at 11am under the tent. Our Children’s Choir will provide special music during the service. We will have a church-wide lunch and a southern gospel quartet concert–featuring the Dove family with legendary McCray Dove and his sons\, the Dove Brothers. Everyone is invited to bring a delicious side dish or dessert to share for the church-wide lunch.
URL:https://www.stpaulgoldsboro.org/events/family-worship-weekend/2025-03-30/
LOCATION:Saint Paul Methodist Church\, 204 E Chestnut St\, Goldsboro\, NC\, 27530\, United States
CATEGORIES:Children,Featured
ATTACH;FMTTYPE=image/png:https://www.stpaulgoldsboro.org/wp-content/uploads/2025/02/5th-Sunday-Family-Worship-Weekend.png
ORGANIZER;CN="Saint Paul Methodist Church":MAILTO:stpaul@stpaulgoldsboro.org
END:VEVENT
BEGIN:VEVENT
DTSTART;TZID=America/New_York:20250305T190000
DTEND;TZID=America/New_York:20250305T200000
DTSTAMP:20260423T170754
CREATED:20250303T192433Z
LAST-MODIFIED:20250303T192433Z
UID:10002376-1741201200-1741204800@www.stpaulgoldsboro.org
SUMMARY:Ash Wednesday 2025
DESCRIPTION:We will have (2) worship services on Ash Wednesday\, March 5\, 2025\, both including Imposition of Ashes. We will gather at: \n\n10am: in the Saint Paul Chapel located off of the Sanctuary\n7pm: in the Saint Paul Sanctuary\, nursery care will be available
URL:https://www.stpaulgoldsboro.org/events/ash-wednesday-2025/2025-03-05/2/
LOCATION:Saint Paul Methodist Church\, 204 E Chestnut St\, Goldsboro\, NC\, 27530\, United States
ATTACH;FMTTYPE=image/png:https://www.stpaulgoldsboro.org/wp-content/uploads/2025/03/ash-wednesday-dark-2025.png
ORGANIZER;CN="Saint Paul Methodist Church":MAILTO:stpaul@stpaulgoldsboro.org
END:VEVENT
BEGIN:VEVENT
DTSTART;TZID=America/New_York:20241216T183000
DTEND;TZID=America/New_York:20241216T193000
DTSTAMP:20260423T170754
CREATED:20240217T111554Z
LAST-MODIFIED:20240217T113845Z
UID:10001768-1734373800-1734377400@www.stpaulgoldsboro.org
SUMMARY:Church Council Meetings 2024
DESCRIPTION:Our regularly scheduled Saint Paul Church Council Meetings for 2024 are bi-monthly on the third Monday of the month @ 6:30 PM in the J. Paul Edwards Classroom. The regular bi-monthly meetings will begin in February. \nOur 2024 Meeting Dates include:\n\n2/19\n4/15\n6/17\n8/19\n10/21\n12/16\n\n\n2024 Church Council Members\n \n\nEd Holt (Council Chairperson\, Assistant Treasurer)\nSallie Batchelor (Serve)\nJohn Best (At-Large: 2024)\nEric Bourgeois (At-Large: 2026)\nAnna Bridgers (At-Large: 2024)\nJeremiah Daniels (At-Large: 2025)\nLinda Gwatney (Lay Leader\, LMAC)\nTommy Gwatney (LMAC)\nJeff Jackson (Finance)\nLouise Jinnette (At-Large: 2026)\nBennett Johnson (Methodist Men)\nHadley Johnson (At-Large: 2025)\nKathy Lies (Worship)\nAnne Paugh (Methodist Women)\nMary Clyde Peacock (Grow)\nDavid Perry (Trustees)\nMarlee Ray (At-Large: 2024)\nWilson Raynor (SPRC)\nNell Wiggins (At-Large: 2026)\nRiley Wilkins (At-Large: 2025)\nJodie Woolard (Treasurer)
URL:https://www.stpaulgoldsboro.org/events/church-council-meetings-2024/2024-12-16/
LOCATION:J. Paul Edwards Classroom – Saint Paul Methodist Church\, 204 East Chestnut Street\, Goldsboro\, NC\, 27534\, United States
ATTACH;FMTTYPE=image/png:https://www.stpaulgoldsboro.org/wp-content/uploads/2024/02/council-2024.png
ORGANIZER;CN="Saint Paul Methodist Church":MAILTO:stpaul@stpaulgoldsboro.org
END:VEVENT
BEGIN:VEVENT
DTSTART;TZID=America/New_York:20241216T173000
DTEND;TZID=America/New_York:20241216T183000
DTSTAMP:20260423T170754
CREATED:20240217T112415Z
LAST-MODIFIED:20240217T113625Z
UID:10001775-1734370200-1734373800@www.stpaulgoldsboro.org
SUMMARY:Finance Committee Meetings 2024
DESCRIPTION:Our regularly scheduled Saint Paul Finance Committee Meetings for 2024 are bi-monthly on the third Monday of the month @ 5:30 PM in the Saint Paul Conference Room. There is also a Special Finance Committee Planning meeting on January 22\, 2024\, at 5:30 PM to review the year-end financials and to plan for the 2024 Budget. The regular bi-monthly meetings will begin in February. \nOur 2024 Meeting Dates include:\n\n1/22 *Special Finance Committee Planning Meeting\n2/19\n4/15\n6/17\n8/19\n10/21\n12/16\n\nFinance Committee Members\n \n\nJeff Jackson (Chairperson)\nStephen Barnes\nMeagan Bourgeois\nLinda Gwatney (Lay Leader\, LMAC)\nTommy Gwatney (LMAC)\nEd Holt (Council Chair\, Assistant Treasurer)\nRick Hughes\nTaylor Jeffreys\nSteve Lies\nBill Paugh\nDavid Perry (Trustees Chair)\nJudson Pope\nWilson Raynor (SPRC Chair)\nGene Riddle\nJodie Woolard (Treasurer)\n\n  \n 
URL:https://www.stpaulgoldsboro.org/events/finance-committee-meetings-2024/2024-12-16/
LOCATION:Conference Room – Saint Paul Methodist Church\, 204 East Chestnut Street\, Goldsboro\, NC\, 27534\, United States
ATTACH;FMTTYPE=image/png:https://www.stpaulgoldsboro.org/wp-content/uploads/2024/02/finance-committee-header.png
END:VEVENT
BEGIN:VEVENT
DTSTART;TZID=America/New_York:20241113T171500
DTEND;TZID=America/New_York:20241113T181500
DTSTAMP:20260423T170754
CREATED:20240217T115238Z
LAST-MODIFIED:20240304T143315Z
UID:10001781-1731518100-1731521700@www.stpaulgoldsboro.org
SUMMARY:Board of Trustees Meetings 2024
DESCRIPTION:Our regularly scheduled Saint Paul Board of Trustees Meetings for 2024 are every other month on the second Wednesday\, beginning on January 10th @ 5:15 PM in the Saint Paul Conference Room. \nOur 2024 Meeting Dates include:\n\n1/10\n3/20\n5/8\n7/10\n9/11\n11/13\n\nBoard of Trustees Members\n \n\nDavid Perry (Chairperson)\nMcIver Barwick\nBobby Batchelor\nJohn Bridgers\nWill Faircloth\nWalter Krentz\nJosh Price\nMike Richter\nLinda Gwatney (Lay Leader)
URL:https://www.stpaulgoldsboro.org/events/board-of-trustees-meetings-2024/2024-11-13/
LOCATION:Conference Room – Saint Paul Methodist Church\, 204 East Chestnut Street\, Goldsboro\, NC\, 27534\, United States
ATTACH;FMTTYPE=image/png:https://www.stpaulgoldsboro.org/wp-content/uploads/2024/02/trustees-meeting-header.png
END:VEVENT
BEGIN:VEVENT
DTSTART;TZID=America/New_York:20240505T170000
DTEND;TZID=America/New_York:20240505T190000
DTSTAMP:20260423T170754
CREATED:20240223T162412Z
LAST-MODIFIED:20240223T162646Z
UID:10001790-1714928400-1714935600@www.stpaulgoldsboro.org
SUMMARY:Confirmation Class 2024
DESCRIPTION:Our 2024 Youth Confirmation class will be on Sunday nights in the Youth Suite. Click here to Register for this class. \n\n\n\nParent/Student Meeting on March 3rd: -Parent/Student Meeting: 6:00 pm – 7:00 pm We will meet in the Youth Suite at 6 pm. This meeting is for parents and youth and will last about an hour. We will share a meal catered by Jimmy Johns and have a brief Confirmation Orientation session. \n\n\n\nConfirmation Class Times beginning March 10th:  -Snack Supper: 5:00 pm – 5:30 pm -Confirmation Class: 5:30 pm – 7:00 pm Confirmation students and volunteers should arrive in the Youth Suite by 4:50 pm so all sessions can start and finish on time. \n\n\n\nConfirmation Class Dates:-March 3rd: Parent/Student Meeting-March 10th: Session 1 – Who is God? What is God like? -March 17th: Session 2 – What did God Make? Why is there evil? -April 7th: Session 3 – Who is Jesus? Why did the Son of God become human? -April 14th: Session 4 – What is Salvation? What is required for Salvation? -April 21st: Session 5 – What are the benefits of Salvation? What happens as we live out our Salvation -April 28th: Session 6 – Who is the Holy Spirit? What does the Holy Spirit do? -May 5th: Session 7 – What is the church? What are the church’s sacraments? -May 12th: 10am Confirmation Breakfast Reception & 11am Confirmation Sunday Service \n\n\n\nIf you have any questions about this year’s Confirmation class\, please contact Pastor Rick Winders at: rickwinders@stpaulgoldsboro.org.
URL:https://www.stpaulgoldsboro.org/events/confirmation-class-2024/2024-05-05/
LOCATION:Youth Suite – Saint Paul Methodist Church\, 204 East Chestnut Street\, Goldsboro\, NC\, 27530\, United States
CATEGORIES:Youth
ATTACH;FMTTYPE=image/png:https://www.stpaulgoldsboro.org/wp-content/uploads/2024/02/youth-confirmation-class-Presentation-1.png
ORGANIZER;CN="Saint Paul Methodist Church":MAILTO:stpaul@stpaulgoldsboro.org
END:VEVENT
BEGIN:VEVENT
DTSTART;TZID=America/New_York:20240414T150000
DTEND;TZID=America/New_York:20240414T173000
DTSTAMP:20260423T170754
CREATED:20240319T034220Z
LAST-MODIFIED:20240319T034344Z
UID:10002054-1713106800-1713115800@www.stpaulgoldsboro.org
SUMMARY:Rise Against Hunger 2024
DESCRIPTION:We will be packing 15\,000 meals to help fight world hunger through our Rise Against Hunger meal-packing event on April 14 at 3 pm. This is a great opportunity for the whole family to Serve Others in this hands-on mission event! All Volunteers are encouraged to register online if they are available to\nparticipate in this event. Click Here to Register.
URL:https://www.stpaulgoldsboro.org/events/rise-against-hunger-2024/
LOCATION:Winslow Hall (Fellowship Hall) – Saint Paul Methodist Church\, 204 E Chestnut Street\, Goldsboro\, NC\, 27530\, United States
ATTACH;FMTTYPE=image/png:https://www.stpaulgoldsboro.org/wp-content/uploads/2024/03/rise-against-hunger.png
ORGANIZER;CN="Saint Paul Methodist Church":MAILTO:stpaul@stpaulgoldsboro.org
END:VEVENT
BEGIN:VEVENT
DTSTART;TZID=America/New_York:20240324T100000
DTEND;TZID=America/New_York:20240324T110000
DTSTAMP:20260423T170754
CREATED:20240211T052237Z
LAST-MODIFIED:20240215T204115Z
UID:10001761-1711274400-1711278000@www.stpaulgoldsboro.org
SUMMARY:Catechism - Beginning Feb 18
DESCRIPTION:Rev. Jim will be teaching The Catechism for the six Sundays of Lent from 10:00 am to 10:45 am in Winslow Hall beginning Sunday\, February 18th\, and ending on Palm Sunday\, March 24th. The Catechism is a primer on the basics of the Christian faith. It is designed to teach about the Particular People of God: The Particular People called Christians; The Particular kind of Christians called Methodists; and The Particular Christian Methodists called Saint Paul. The class is open to anyone interested in learning\, reviewing\, or renewing their understanding of the teachings of the Church. It is especially offered for visitors and regular attendees who may be considering becoming a member of Saint Paul Methodist Church.
URL:https://www.stpaulgoldsboro.org/events/catechism-beginning-feb-18/2024-03-24/
LOCATION:Winslow Hall (Fellowship Hall) – Saint Paul Methodist Church\, 204 E Chestnut Street\, Goldsboro\, NC\, 27530\, United States
ATTACH;FMTTYPE=image/png:https://www.stpaulgoldsboro.org/wp-content/uploads/2024/02/catechism-class.png
ORGANIZER;CN="Rev. James H. Harry%2C Senior Minister":MAILTO:jimharry@stpaulgoldsboro.org
END:VEVENT
BEGIN:VEVENT
DTSTART;TZID=America/New_York:20240322T090000
DTEND;TZID=America/New_York:20240322T103000
DTSTAMP:20260423T170754
CREATED:20240319T033832Z
LAST-MODIFIED:20240319T033832Z
UID:10002053-1711098000-1711103400@www.stpaulgoldsboro.org
SUMMARY:Preparing Palm Crosses 2024
DESCRIPTION:Join us for coffee and fellowship on Friday\, March 22 at 9 AM in Winslow Hall as we make the palm crosses for our Palm Sunday Worship Service. No experience necessary.
URL:https://www.stpaulgoldsboro.org/events/preparing-palm-crosses-2024/
LOCATION:Winslow Hall (Fellowship Hall) – Saint Paul Methodist Church\, 204 E Chestnut Street\, Goldsboro\, NC\, 27530\, United States
ATTACH;FMTTYPE=image/png:https://www.stpaulgoldsboro.org/wp-content/uploads/2023/03/palm-cross-making-2024.png
ORGANIZER;CN="Saint Paul Methodist Church":MAILTO:stpaul@stpaulgoldsboro.org
END:VEVENT
BEGIN:VEVENT
DTSTART;TZID=America/New_York:20240316T100000
DTEND;TZID=America/New_York:20240316T110000
DTSTAMP:20260423T170755
CREATED:20240207T043734Z
LAST-MODIFIED:20240211T000805Z
UID:10001512-1710583200-1710586800@www.stpaulgoldsboro.org
SUMMARY:Easter Jam 2024
DESCRIPTION:Our kid’s Easter Jam will be on March 16 at 10 am in Winslow Hall. Everyone is invited to this Easter Celebration that will be BIG enough for the whole family! \nThere will be a light breakfast and Easter story skit followed by the Easter Egg Hunt! \n*We are asking each child to bring 12 pre-filled Easter eggs.
URL:https://www.stpaulgoldsboro.org/events/easter-jam-2024/
LOCATION:Winslow Hall (Fellowship Hall) – Saint Paul Methodist Church\, 204 E Chestnut Street\, Goldsboro\, NC\, 27530\, United States
CATEGORIES:Children,Featured
ATTACH;FMTTYPE=image/png:https://www.stpaulgoldsboro.org/wp-content/uploads/2024/02/easter-jam-2024.png
ORGANIZER;CN="Saint Paul Methodist Church":MAILTO:stpaul@stpaulgoldsboro.org
END:VEVENT
BEGIN:VEVENT
DTSTART;TZID=America/New_York:20240303T180000
DTEND;TZID=America/New_York:20240303T190000
DTSTAMP:20260423T170755
CREATED:20240207T042857Z
LAST-MODIFIED:20240223T161935Z
UID:10001511-1709488800-1709492400@www.stpaulgoldsboro.org
SUMMARY:Confirmation Class Parent/Student Meeting
DESCRIPTION:Our 2024 Youth Confirmation class will be on Sunday nights in the Youth Suite beginning with a Parent/Student Meeting on March 3rd at 6pm in the Youth Suite. \nClick Here for more information and to register your Youth for the Confirmation class.
URL:https://www.stpaulgoldsboro.org/events/confirmation-class-parent-student-meeting/
LOCATION:Youth Suite – Saint Paul Methodist Church\, 204 East Chestnut Street\, Goldsboro\, NC\, 27530\, United States
CATEGORIES:Youth
ATTACH;FMTTYPE=image/png:https://www.stpaulgoldsboro.org/wp-content/uploads/2024/02/youth-confirmation-class-Presentation-1.png
ORGANIZER;CN="Saint Paul Methodist Church":MAILTO:stpaul@stpaulgoldsboro.org
END:VEVENT
BEGIN:VEVENT
DTSTART;TZID=America/New_York:20240215T190000
DTEND;TZID=America/New_York:20240215T200000
DTSTAMP:20260423T170755
CREATED:20240203T203830Z
LAST-MODIFIED:20240207T073859Z
UID:10001505-1708023600-1708027200@www.stpaulgoldsboro.org
SUMMARY:Thursday Night Bible Study with Rev. Jim 2024
DESCRIPTION:The new semester of Rev. Jim’s Thursday Night Bible Study is on a new study\, The Book of Revelation: What Does the Bible Really Say?. It will examine Saint John’s vision in full detail as well as discuss the End Times theology amidst contemporary and historical interpretations of this wonderful book of encouragement for Christians during turbulent times and the proclamation that Jesus has triumphed over sin\, hell\, death\, and the grave. Come join us on Thursday evenings at 7:00pm in Winslow Hall.
URL:https://www.stpaulgoldsboro.org/events/thursday-night-bible-study-with-rev-jim-2024/2024-02-15/
LOCATION:Winslow Hall (Fellowship Hall) – Saint Paul Methodist Church\, 204 E Chestnut Street\, Goldsboro\, NC\, 27530\, United States
ATTACH;FMTTYPE=image/png:https://www.stpaulgoldsboro.org/wp-content/uploads/2024/02/rj-bible-study-revelation-fb-post-Presentation.png
ORGANIZER;CN="Rev. James H. Harry%2C Senior Minister":MAILTO:jimharry@stpaulgoldsboro.org
END:VEVENT
BEGIN:VEVENT
DTSTART;TZID=America/New_York:20240215T174500
DTEND;TZID=America/New_York:20240215T184500
DTSTAMP:20260423T170755
CREATED:20240210T203821Z
LAST-MODIFIED:20240210T203821Z
UID:10001514-1708019100-1708022700@www.stpaulgoldsboro.org
SUMMARY:Methodist Men's Meeting - Feb 15
DESCRIPTION:All Saint Paul men are invited to join us at the Saint Paul Methodist Men’s meeting on Thursday\, February 15 at 5:45 pm in Winslow Hall. We will gather for dinner and fellowship\, and we are excited to hear from our guest speaker\, Charlie Wilkins!
URL:https://www.stpaulgoldsboro.org/events/methodist-mens-meeting-feb-15/
LOCATION:Winslow Hall (Fellowship Hall) – Saint Paul Methodist Church\, 204 E Chestnut Street\, Goldsboro\, NC\, 27530\, United States
CATEGORIES:Men's Ministry
ATTACH;FMTTYPE=image/png:https://www.stpaulgoldsboro.org/wp-content/uploads/2024/02/men-meeting-feb-2024-1920-×-1080-px.png
END:VEVENT
BEGIN:VEVENT
DTSTART;TZID=America/New_York:20240214T190000
DTEND;TZID=America/New_York:20240214T200000
DTSTAMP:20260423T170755
CREATED:20240203T221302Z
LAST-MODIFIED:20240203T221302Z
UID:10001509-1707937200-1707940800@www.stpaulgoldsboro.org
SUMMARY:Ash Wednesday
DESCRIPTION:We will have our Service of Worship for Ash Wednesday\, including Imposition of Ashes\, on February 14 at 10am in the Chapel and 7pm in the Sanctuary. This is a powerful service that prepares our hearts for repentance as well as the joy and celebration of the Easter resurrection.
URL:https://www.stpaulgoldsboro.org/events/ash-wednesday/2024-02-14/2/
LOCATION:Saint Paul Methodist Church\, 204 E Chestnut St\, Goldsboro\, NC\, 27530\, United States
CATEGORIES:Featured
ATTACH;FMTTYPE=image/png:https://www.stpaulgoldsboro.org/wp-content/uploads/2024/02/ash-wednesday-1.png
ORGANIZER;CN="Saint Paul Methodist Church":MAILTO:stpaul@stpaulgoldsboro.org
END:VEVENT
BEGIN:VEVENT
DTSTART;TZID=America/New_York:20240214T163000
DTEND;TZID=America/New_York:20240214T170000
DTSTAMP:20260423T170755
CREATED:20240203T205555Z
LAST-MODIFIED:20240207T042405Z
UID:10001510-1707928200-1707930000@www.stpaulgoldsboro.org
SUMMARY:Kids Make Valentines
DESCRIPTION:Our Saint Paul Kids will gather in Winslow Hall to make Valentine Cards on February 4 at 10am-this will replace Children’s Sunday School Classes. The cards will be delivered on February 14 to Navion of Goldsboro (formerly Brookdale on Berkeley) at 4:30pm.
URL:https://www.stpaulgoldsboro.org/events/kids-make-valentines/2024-02-14/
LOCATION:Winslow Hall (Fellowship Hall) – Saint Paul Methodist Church\, 204 E Chestnut Street\, Goldsboro\, NC\, 27530\, United States
CATEGORIES:Children,Featured
ATTACH;FMTTYPE=image/png:https://www.stpaulgoldsboro.org/wp-content/uploads/2024/02/kids-valentines-Presentation-3.png
ORGANIZER;CN="Saint Paul Methodist Church":MAILTO:stpaul@stpaulgoldsboro.org
END:VEVENT
BEGIN:VEVENT
DTSTART;TZID=America/New_York:20240211T163000
DTEND;TZID=America/New_York:20240211T180000
DTSTAMP:20260423T170755
CREATED:20240203T215413Z
LAST-MODIFIED:20240203T215625Z
UID:10001507-1707669000-1707674400@www.stpaulgoldsboro.org
SUMMARY:Pathfinders Fruit of the Spirit
DESCRIPTION:Our Kids Pathfinders will have a theme night on February 11. Everyone is invited to dress in the color of their favorite fruit as we learn about the Fruit of the Spirit. Please bring a donation of non-perishable fruit to support 4 Day Movement.
URL:https://www.stpaulgoldsboro.org/events/pathfinders-fruit-of-the-spirit/
LOCATION:Saint Paul Methodist Church\, 204 E Chestnut St\, Goldsboro\, NC\, 27530\, United States
CATEGORIES:Children,Featured
ATTACH;FMTTYPE=image/png:https://www.stpaulgoldsboro.org/wp-content/uploads/2024/02/fruit-of-the-spirit.png
ORGANIZER;CN="Saint Paul Methodist Church":MAILTO:stpaul@stpaulgoldsboro.org
END:VEVENT
BEGIN:VEVENT
DTSTART;TZID=America/New_York:20231231T100000
DTEND;TZID=America/New_York:20231231T110000
DTSTAMP:20260423T170755
CREATED:20230827T092441Z
LAST-MODIFIED:20230917T093348Z
UID:10001414-1704016800-1704020400@www.stpaulgoldsboro.org
SUMMARY:Sunday School Classes for All Ages
DESCRIPTION:Sunday School Classes are available for all ages! \nAll classes meet on Sunday mornings from 10-11am. \nChildren’s Sunday School Classes meet in the Education Building and include (beginning September 10): \n\nNursery (Birth to 2 years old): Led by Mimi Steed and Beth Cauley\nK-1st Grade\n2nd – 5th Grade: Led by Josh and Cindy Price\, Bennett and Hadley Johnson\, and David and Lindsay Krochta\n\nAdult Sunday School Classes include: \n\nAll In: Led by Robin Harry – meets on the 2nd Floor of the Administrative Building\nConnections: Led by Mary Clyde Peacock – meets in the Upstairs Coffee Cafe of the Administrative Building\nJourneys: Led by Gerald Whisenhunt – meets in the Journeys Classroom of the Administrative Building\nJ. Paul Edwards: Led by Louise Jinnette – meets in the J. Paul Edwards Classroom of the Education Building\n\n 
URL:https://www.stpaulgoldsboro.org/events/sunday-school-classes/2023-12-31/
LOCATION:Saint Paul Methodist Church\, 204 E Chestnut St\, Goldsboro\, NC\, 27530\, United States
CATEGORIES:Children,Featured,Men's Ministry,Women's Ministry
ATTACH;FMTTYPE=image/png:https://www.stpaulgoldsboro.org/wp-content/uploads/2023/08/sunday-school-classes-all-agesPresentation-169.png
ORGANIZER;CN="Saint Paul Methodist Church":MAILTO:stpaul@stpaulgoldsboro.org
END:VEVENT
BEGIN:VEVENT
DTSTART;TZID=America/New_York:20231218T183000
DTEND;TZID=America/New_York:20231218T193000
DTSTAMP:20260423T170755
CREATED:20230114T164549Z
LAST-MODIFIED:20230114T165533Z
UID:10001092-1702924200-1702927800@www.stpaulgoldsboro.org
SUMMARY:Administrative Church Council Meeting
DESCRIPTION:The Saint Paul Administrative Church Council regularly meets bi-monthly on the third Monday of the month beginning in February at 6:30 PM in the J. Paul Edwards Classroom. \n2023 Meeting Schedule \n\n2/20\n4/17\n6/19\n8/21\n10/16\n12/18\n\nAdministrative Church Council Chairperson: Johnny Peacock
URL:https://www.stpaulgoldsboro.org/events/administrative-church-council-meeting/2023-12-18/
LOCATION:J. Paul Edwards Classroom – Saint Paul Methodist Church\, 204 East Chestnut Street\, Goldsboro\, NC\, 27534\, United States
ATTACH;FMTTYPE=image/png:https://www.stpaulgoldsboro.org/wp-content/uploads/2023/01/council-gmc.png
END:VEVENT
BEGIN:VEVENT
DTSTART;TZID=America/New_York:20231218T173000
DTEND;TZID=America/New_York:20231218T183000
DTSTAMP:20260423T170755
CREATED:20230114T162647Z
LAST-MODIFIED:20230114T163736Z
UID:10001055-1702920600-1702924200@www.stpaulgoldsboro.org
SUMMARY:Finance Committee Meeting
DESCRIPTION:The Saint Paul Finance Committee regularly meets bi-monthly on the third Monday of the month beginning at 5:30 PM in the Church Conference Room. In addition\, there is a Special Finance Committee Planning meeting on January 30\, 2023\, at 5:30 PM to review the year-end financials and to plan for the 2023 Budget. The regular bi-monthly meetings will then begin in February. \n2023 Meeting Schedule \n\n1/30 *Special Finance Committee Planning Meeting\n2/20\n4/17\n6/19\n8/21\n10/16\n12/18\n\nFinance Committee Chairperson: Jeff Jackson
URL:https://www.stpaulgoldsboro.org/events/finance-committee-meeting/2023-12-18/
LOCATION:Conference Room – Saint Paul Methodist Church\, 204 East Chestnut Street\, Goldsboro\, NC\, 27534\, United States
ATTACH;FMTTYPE=image/png:https://www.stpaulgoldsboro.org/wp-content/uploads/2023/01/finance-gmc.png
END:VEVENT
BEGIN:VEVENT
DTSTART;TZID=America/New_York:20231115T171500
DTEND;TZID=America/New_York:20231115T181500
DTSTAMP:20260423T170755
CREATED:20230419T213222Z
LAST-MODIFIED:20230419T213313Z
UID:10001135-1700068500-1700072100@www.stpaulgoldsboro.org
SUMMARY:Board of Trustees Meeting
DESCRIPTION:The Saint Paul Board of Trustees Meetings for 2023 are on a Wednesday at 5:15 PM in the Saint Paul Conference Room. \n2023 Meeting Dates include:\n\n1/11\n3/15\n*5/15-new date\n7/19\n9/13\n11/15\n\nBoard of Trustees Chairperson: David Perry
URL:https://www.stpaulgoldsboro.org/events/board-of-trustees-meeting-2/2023-11-15/
LOCATION:Conference Room – Saint Paul Methodist Church\, 204 East Chestnut Street\, Goldsboro\, NC\, 27534\, United States
ATTACH;FMTTYPE=image/png:https://www.stpaulgoldsboro.org/wp-content/uploads/2023/01/trustees-gmc.png
END:VEVENT
END:VCALENDAR