BEGIN:VCALENDAR
VERSION:2.0
PRODID:-//Saint Paul Methodist Church | A Global Methodist Congregation in Goldsboro, NC - ECPv6.15.20//NONSGML v1.0//EN
CALSCALE:GREGORIAN
METHOD:PUBLISH
X-WR-CALNAME:Saint Paul Methodist Church | A Global Methodist Congregation in Goldsboro, NC
X-ORIGINAL-URL:https://www.stpaulgoldsboro.org
X-WR-CALDESC:Events for Saint Paul Methodist Church | A Global Methodist Congregation in Goldsboro, NC
REFRESH-INTERVAL;VALUE=DURATION:PT1H
X-Robots-Tag:noindex
X-PUBLISHED-TTL:PT1H
BEGIN:VTIMEZONE
TZID:America/New_York
BEGIN:DAYLIGHT
TZOFFSETFROM:-0500
TZOFFSETTO:-0400
TZNAME:EDT
DTSTART:20250309T070000
END:DAYLIGHT
BEGIN:STANDARD
TZOFFSETFROM:-0400
TZOFFSETTO:-0500
TZNAME:EST
DTSTART:20251102T060000
END:STANDARD
BEGIN:DAYLIGHT
TZOFFSETFROM:-0500
TZOFFSETTO:-0400
TZNAME:EDT
DTSTART:20260308T070000
END:DAYLIGHT
BEGIN:STANDARD
TZOFFSETFROM:-0400
TZOFFSETTO:-0500
TZNAME:EST
DTSTART:20261101T060000
END:STANDARD
BEGIN:DAYLIGHT
TZOFFSETFROM:-0500
TZOFFSETTO:-0400
TZNAME:EDT
DTSTART:20270314T070000
END:DAYLIGHT
BEGIN:STANDARD
TZOFFSETFROM:-0400
TZOFFSETTO:-0500
TZNAME:EST
DTSTART:20271107T060000
END:STANDARD
END:VTIMEZONE
BEGIN:VEVENT
DTSTART;TZID=America/New_York:20260505T110000
DTEND;TZID=America/New_York:20260505T120000
DTSTAMP:20260423T045902
CREATED:20260206T061647Z
LAST-MODIFIED:20260206T062352Z
UID:10002484-1777978800-1777982400@www.stpaulgoldsboro.org
SUMMARY:Methodist Women - Unity Circle
DESCRIPTION:Saint Paul Methodist Women – Unity Circle\n \nMeets on the first Tuesday of the month at 11:00 am\nLocated in the Saint Paul J. Paul Edwards Classroom
URL:https://www.stpaulgoldsboro.org/events/methodist-women-unity-circle-2026/2026-05-05/
LOCATION:J. Paul Edwards Classroom – Saint Paul Methodist Church\, 204 East Chestnut Street\, Goldsboro\, NC\, 27534\, United States
CATEGORIES:Women's Ministry
ATTACH;FMTTYPE=image/png:https://www.stpaulgoldsboro.org/wp-content/uploads/2026/02/methodist-women-circles-unity-circle-2026.png
ORGANIZER;CN="Saint Paul Methodist Church":MAILTO:stpaul@stpaulgoldsboro.org
END:VEVENT
BEGIN:VEVENT
DTSTART;TZID=America/New_York:20260512T103000
DTEND;TZID=America/New_York:20260512T113000
DTSTAMP:20260423T045902
CREATED:20260206T061313Z
LAST-MODIFIED:20260206T061400Z
UID:10001602-1778581800-1778585400@www.stpaulgoldsboro.org
SUMMARY:Methodist Women - Faith\, Hope\, & Charity Circle
DESCRIPTION:Saint Paul Methodist Women – Faith\, Hope\, & Charity Circle\n \nMeets on the second Tuesday of the month at 10:30 am\nLocated in the Saint Paul Methodist Church Parlor
URL:https://www.stpaulgoldsboro.org/events/methodist-women-faith-hope-charity-circle-2026/2026-05-12/
LOCATION:Parlor – Saint Paul Methodist Church\, 204 East Chestnut Street\, Goldsboo\, NC\, 27530\, United States
CATEGORIES:Women's Ministry
ATTACH;FMTTYPE=image/png:https://www.stpaulgoldsboro.org/wp-content/uploads/2024/02/methodist-women-circles-fhc-2026.png
ORGANIZER;CN="Saint Paul Methodist Church":MAILTO:stpaul@stpaulgoldsboro.org
END:VEVENT
BEGIN:VEVENT
DTSTART;TZID=America/New_York:20260901T110000
DTEND;TZID=America/New_York:20260901T120000
DTSTAMP:20260423T045902
CREATED:20260206T061647Z
LAST-MODIFIED:20260206T062352Z
UID:10002485-1788260400-1788264000@www.stpaulgoldsboro.org
SUMMARY:Methodist Women - Unity Circle
DESCRIPTION:Saint Paul Methodist Women – Unity Circle\n \nMeets on the first Tuesday of the month at 11:00 am\nLocated in the Saint Paul J. Paul Edwards Classroom
URL:https://www.stpaulgoldsboro.org/events/methodist-women-unity-circle-2026/2026-09-01/
LOCATION:J. Paul Edwards Classroom – Saint Paul Methodist Church\, 204 East Chestnut Street\, Goldsboro\, NC\, 27534\, United States
CATEGORIES:Women's Ministry
ATTACH;FMTTYPE=image/png:https://www.stpaulgoldsboro.org/wp-content/uploads/2026/02/methodist-women-circles-unity-circle-2026.png
ORGANIZER;CN="Saint Paul Methodist Church":MAILTO:stpaul@stpaulgoldsboro.org
END:VEVENT
BEGIN:VEVENT
DTSTART;TZID=America/New_York:20260908T103000
DTEND;TZID=America/New_York:20260908T113000
DTSTAMP:20260423T045902
CREATED:20260206T061313Z
LAST-MODIFIED:20260206T061400Z
UID:10001606-1788863400-1788867000@www.stpaulgoldsboro.org
SUMMARY:Methodist Women - Faith\, Hope\, & Charity Circle
DESCRIPTION:Saint Paul Methodist Women – Faith\, Hope\, & Charity Circle\n \nMeets on the second Tuesday of the month at 10:30 am\nLocated in the Saint Paul Methodist Church Parlor
URL:https://www.stpaulgoldsboro.org/events/methodist-women-faith-hope-charity-circle-2026/2026-09-08/
LOCATION:Parlor – Saint Paul Methodist Church\, 204 East Chestnut Street\, Goldsboo\, NC\, 27530\, United States
CATEGORIES:Women's Ministry
ATTACH;FMTTYPE=image/png:https://www.stpaulgoldsboro.org/wp-content/uploads/2024/02/methodist-women-circles-fhc-2026.png
ORGANIZER;CN="Saint Paul Methodist Church":MAILTO:stpaul@stpaulgoldsboro.org
END:VEVENT
BEGIN:VEVENT
DTSTART;TZID=America/New_York:20261006T110000
DTEND;TZID=America/New_York:20261006T120000
DTSTAMP:20260423T045902
CREATED:20260206T061647Z
LAST-MODIFIED:20260206T062352Z
UID:10002486-1791284400-1791288000@www.stpaulgoldsboro.org
SUMMARY:Methodist Women - Unity Circle
DESCRIPTION:Saint Paul Methodist Women – Unity Circle\n \nMeets on the first Tuesday of the month at 11:00 am\nLocated in the Saint Paul J. Paul Edwards Classroom
URL:https://www.stpaulgoldsboro.org/events/methodist-women-unity-circle-2026/2026-10-06/
LOCATION:J. Paul Edwards Classroom – Saint Paul Methodist Church\, 204 East Chestnut Street\, Goldsboro\, NC\, 27534\, United States
CATEGORIES:Women's Ministry
ATTACH;FMTTYPE=image/png:https://www.stpaulgoldsboro.org/wp-content/uploads/2026/02/methodist-women-circles-unity-circle-2026.png
ORGANIZER;CN="Saint Paul Methodist Church":MAILTO:stpaul@stpaulgoldsboro.org
END:VEVENT
BEGIN:VEVENT
DTSTART;TZID=America/New_York:20261013T103000
DTEND;TZID=America/New_York:20261013T113000
DTSTAMP:20260423T045902
CREATED:20260206T061313Z
LAST-MODIFIED:20260206T061400Z
UID:10001607-1791887400-1791891000@www.stpaulgoldsboro.org
SUMMARY:Methodist Women - Faith\, Hope\, & Charity Circle
DESCRIPTION:Saint Paul Methodist Women – Faith\, Hope\, & Charity Circle\n \nMeets on the second Tuesday of the month at 10:30 am\nLocated in the Saint Paul Methodist Church Parlor
URL:https://www.stpaulgoldsboro.org/events/methodist-women-faith-hope-charity-circle-2026/2026-10-13/
LOCATION:Parlor – Saint Paul Methodist Church\, 204 East Chestnut Street\, Goldsboo\, NC\, 27530\, United States
CATEGORIES:Women's Ministry
ATTACH;FMTTYPE=image/png:https://www.stpaulgoldsboro.org/wp-content/uploads/2024/02/methodist-women-circles-fhc-2026.png
ORGANIZER;CN="Saint Paul Methodist Church":MAILTO:stpaul@stpaulgoldsboro.org
END:VEVENT
BEGIN:VEVENT
DTSTART;TZID=America/New_York:20261103T110000
DTEND;TZID=America/New_York:20261103T120000
DTSTAMP:20260423T045902
CREATED:20260206T061647Z
LAST-MODIFIED:20260206T062352Z
UID:10002487-1793703600-1793707200@www.stpaulgoldsboro.org
SUMMARY:Methodist Women - Unity Circle
DESCRIPTION:Saint Paul Methodist Women – Unity Circle\n \nMeets on the first Tuesday of the month at 11:00 am\nLocated in the Saint Paul J. Paul Edwards Classroom
URL:https://www.stpaulgoldsboro.org/events/methodist-women-unity-circle-2026/2026-11-03/
LOCATION:J. Paul Edwards Classroom – Saint Paul Methodist Church\, 204 East Chestnut Street\, Goldsboro\, NC\, 27534\, United States
CATEGORIES:Women's Ministry
ATTACH;FMTTYPE=image/png:https://www.stpaulgoldsboro.org/wp-content/uploads/2026/02/methodist-women-circles-unity-circle-2026.png
ORGANIZER;CN="Saint Paul Methodist Church":MAILTO:stpaul@stpaulgoldsboro.org
END:VEVENT
BEGIN:VEVENT
DTSTART;TZID=America/New_York:20261110T103000
DTEND;TZID=America/New_York:20261110T113000
DTSTAMP:20260423T045902
CREATED:20260206T061313Z
LAST-MODIFIED:20260206T061400Z
UID:10001608-1794306600-1794310200@www.stpaulgoldsboro.org
SUMMARY:Methodist Women - Faith\, Hope\, & Charity Circle
DESCRIPTION:Saint Paul Methodist Women – Faith\, Hope\, & Charity Circle\n \nMeets on the second Tuesday of the month at 10:30 am\nLocated in the Saint Paul Methodist Church Parlor
URL:https://www.stpaulgoldsboro.org/events/methodist-women-faith-hope-charity-circle-2026/2026-11-10/
LOCATION:Parlor – Saint Paul Methodist Church\, 204 East Chestnut Street\, Goldsboo\, NC\, 27530\, United States
CATEGORIES:Women's Ministry
ATTACH;FMTTYPE=image/png:https://www.stpaulgoldsboro.org/wp-content/uploads/2024/02/methodist-women-circles-fhc-2026.png
ORGANIZER;CN="Saint Paul Methodist Church":MAILTO:stpaul@stpaulgoldsboro.org
END:VEVENT
BEGIN:VEVENT
DTSTART;TZID=America/New_York:20261201T110000
DTEND;TZID=America/New_York:20261201T120000
DTSTAMP:20260423T045902
CREATED:20260206T061647Z
LAST-MODIFIED:20260206T062352Z
UID:10002488-1796122800-1796126400@www.stpaulgoldsboro.org
SUMMARY:Methodist Women - Unity Circle
DESCRIPTION:Saint Paul Methodist Women – Unity Circle\n \nMeets on the first Tuesday of the month at 11:00 am\nLocated in the Saint Paul J. Paul Edwards Classroom
URL:https://www.stpaulgoldsboro.org/events/methodist-women-unity-circle-2026/2026-12-01/
LOCATION:J. Paul Edwards Classroom – Saint Paul Methodist Church\, 204 East Chestnut Street\, Goldsboro\, NC\, 27534\, United States
CATEGORIES:Women's Ministry
ATTACH;FMTTYPE=image/png:https://www.stpaulgoldsboro.org/wp-content/uploads/2026/02/methodist-women-circles-unity-circle-2026.png
ORGANIZER;CN="Saint Paul Methodist Church":MAILTO:stpaul@stpaulgoldsboro.org
END:VEVENT
BEGIN:VEVENT
DTSTART;TZID=America/New_York:20261208T103000
DTEND;TZID=America/New_York:20261208T113000
DTSTAMP:20260423T045902
CREATED:20260206T061313Z
LAST-MODIFIED:20260206T061400Z
UID:10001609-1796725800-1796729400@www.stpaulgoldsboro.org
SUMMARY:Methodist Women - Faith\, Hope\, & Charity Circle
DESCRIPTION:Saint Paul Methodist Women – Faith\, Hope\, & Charity Circle\n \nMeets on the second Tuesday of the month at 10:30 am\nLocated in the Saint Paul Methodist Church Parlor
URL:https://www.stpaulgoldsboro.org/events/methodist-women-faith-hope-charity-circle-2026/2026-12-08/
LOCATION:Parlor – Saint Paul Methodist Church\, 204 East Chestnut Street\, Goldsboo\, NC\, 27530\, United States
CATEGORIES:Women's Ministry
ATTACH;FMTTYPE=image/png:https://www.stpaulgoldsboro.org/wp-content/uploads/2024/02/methodist-women-circles-fhc-2026.png
ORGANIZER;CN="Saint Paul Methodist Church":MAILTO:stpaul@stpaulgoldsboro.org
END:VEVENT
END:VCALENDAR