BEGIN:VCALENDAR
VERSION:2.0
PRODID:-//Saint Paul Methodist Church | A Global Methodist Congregation in Goldsboro, NC - ECPv6.15.20//NONSGML v1.0//EN
CALSCALE:GREGORIAN
METHOD:PUBLISH
X-WR-CALNAME:Saint Paul Methodist Church | A Global Methodist Congregation in Goldsboro, NC
X-ORIGINAL-URL:https://www.stpaulgoldsboro.org
X-WR-CALDESC:Events for Saint Paul Methodist Church | A Global Methodist Congregation in Goldsboro, NC
REFRESH-INTERVAL;VALUE=DURATION:PT1H
X-Robots-Tag:noindex
X-PUBLISHED-TTL:PT1H
BEGIN:VTIMEZONE
TZID:America/New_York
BEGIN:DAYLIGHT
TZOFFSETFROM:-0500
TZOFFSETTO:-0400
TZNAME:EDT
DTSTART:20250309T070000
END:DAYLIGHT
BEGIN:STANDARD
TZOFFSETFROM:-0400
TZOFFSETTO:-0500
TZNAME:EST
DTSTART:20251102T060000
END:STANDARD
BEGIN:DAYLIGHT
TZOFFSETFROM:-0500
TZOFFSETTO:-0400
TZNAME:EDT
DTSTART:20260308T070000
END:DAYLIGHT
BEGIN:STANDARD
TZOFFSETFROM:-0400
TZOFFSETTO:-0500
TZNAME:EST
DTSTART:20261101T060000
END:STANDARD
BEGIN:DAYLIGHT
TZOFFSETFROM:-0500
TZOFFSETTO:-0400
TZNAME:EDT
DTSTART:20270314T070000
END:DAYLIGHT
BEGIN:STANDARD
TZOFFSETFROM:-0400
TZOFFSETTO:-0500
TZNAME:EST
DTSTART:20271107T060000
END:STANDARD
END:VTIMEZONE
BEGIN:VEVENT
DTSTART;TZID=America/New_York:20260423T073000
DTEND;TZID=America/New_York:20260423T083000
DTSTAMP:20260423T054513
CREATED:20220830T084136Z
LAST-MODIFIED:20240610T191021Z
UID:10002198-1776929400-1776933000@www.stpaulgoldsboro.org
SUMMARY:Thursday Men's Bible Study
DESCRIPTION:All men are invited to join us every Thursday morning at 7:30 AM for our Men’s Morning Bible Study. This is a weekly men’s gathering for breakfast\, bible study\, and conversation to learn how to use the Bible to guide our lives. This bible study meets at: Ashley’s Diner\, 1201 N William Street\, Goldsboro\, NC. Contact Rev. Jim for more information.
URL:https://www.stpaulgoldsboro.org/events/thursday-mens-bible-study/2026-04-23/
LOCATION:Ashley’s Diner\, 1201 N William St\, Goldsboro\, NC\, 27530\, United States
CATEGORIES:Men's Ministry
ATTACH;FMTTYPE=image/png:https://www.stpaulgoldsboro.org/wp-content/uploads/2022/08/mens-thursday-1.png
ORGANIZER;CN="Rev. James H. Harry%2C Senior Minister":MAILTO:jimharry@stpaulgoldsboro.org
END:VEVENT
END:VCALENDAR